BEGIN:VCALENDAR
VERSION:2.0
PRODID:-//WSV St.Kathrein/Offenegg Skiverein - ECPv6.0.12//NONSGML v1.0//EN
CALSCALE:GREGORIAN
METHOD:PUBLISH
X-ORIGINAL-URL:https://wsv-kathrein.at
X-WR-CALDESC:Veranstaltungen für WSV St.Kathrein/Offenegg Skiverein
REFRESH-INTERVAL;VALUE=DURATION:PT1H
X-Robots-Tag:noindex
X-PUBLISHED-TTL:PT1H
BEGIN:VTIMEZONE
TZID:Europe/Berlin
BEGIN:DAYLIGHT
TZOFFSETFROM:+0100
TZOFFSETTO:+0200
TZNAME:CEST
DTSTART:20230326T010000
END:DAYLIGHT
BEGIN:STANDARD
TZOFFSETFROM:+0200
TZOFFSETTO:+0100
TZNAME:CET
DTSTART:20231029T010000
END:STANDARD
END:VTIMEZONE
BEGIN:VEVENT
DTSTART;TZID=Europe/Berlin:20230923T130000
DTEND;TZID=Europe/Berlin:20230923T180000
DTSTAMP:20260426T005720
CREATED:20230817T174100Z
LAST-MODIFIED:20230817T174721Z
UID:10000247-1695474000-1695492000@wsv-kathrein.at
SUMMARY:37. Passailer Volkslauf 2023
DESCRIPTION:7. und letzter Lauf zum Weizer Bezirkslaufcup 2023 \nAlle Infos: https://weizerbezirkslaufcup.at/event/passailer-volkslauf/ \n 
URL:https://wsv-kathrein.at/event/37-passailer-volkslauf-2023/
LOCATION:Passail\, Passail\, 8162
END:VEVENT
END:VCALENDAR