BEGIN:VCALENDAR
VERSION:2.0
PRODID:-//WSV St.Kathrein/Offenegg Skiverein - ECPv6.0.12//NONSGML v1.0//EN
CALSCALE:GREGORIAN
METHOD:PUBLISH
X-ORIGINAL-URL:https://wsv-kathrein.at
X-WR-CALDESC:Veranstaltungen für WSV St.Kathrein/Offenegg Skiverein
REFRESH-INTERVAL;VALUE=DURATION:PT1H
X-Robots-Tag:noindex
X-PUBLISHED-TTL:PT1H
BEGIN:VTIMEZONE
TZID:Europe/Berlin
BEGIN:DAYLIGHT
TZOFFSETFROM:+0100
TZOFFSETTO:+0200
TZNAME:CEST
DTSTART:20230326T010000
END:DAYLIGHT
BEGIN:STANDARD
TZOFFSETFROM:+0200
TZOFFSETTO:+0100
TZNAME:CET
DTSTART:20231029T010000
END:STANDARD
END:VTIMEZONE
BEGIN:VEVENT
DTSTART;TZID=Europe/Berlin:20231028T170000
DTEND;TZID=Europe/Berlin:20231028T183000
DTSTAMP:20260424T174711
CREATED:20230921T103025Z
LAST-MODIFIED:20230926T195039Z
UID:10000252-1698512400-1698517800@wsv-kathrein.at
SUMMARY:Skigymnastik Kinder
DESCRIPTION:Skigymnastik für alle ab 4 Jahren. Mit Spaß und Sport in die neue Skisaison. \nOrt: Turnsaal St. Kathrein/Off. \n1 Los für jede Teilnahme. Verlosung beim letzten Termin. \nNähere Infos bei Nicole Harrer \n \n 
URL:https://wsv-kathrein.at/event/skigymnastik-kinder-3/2023-10-28/
END:VEVENT
END:VCALENDAR