BEGIN:VCALENDAR
VERSION:2.0
PRODID:-//WSV St.Kathrein/Offenegg Skiverein - ECPv6.0.12//NONSGML v1.0//EN
CALSCALE:GREGORIAN
METHOD:PUBLISH
X-WR-CALNAME:WSV St.Kathrein/Offenegg Skiverein
X-ORIGINAL-URL:https://wsv-kathrein.at
X-WR-CALDESC:Veranstaltungen für WSV St.Kathrein/Offenegg Skiverein
REFRESH-INTERVAL;VALUE=DURATION:PT1H
X-Robots-Tag:noindex
X-PUBLISHED-TTL:PT1H
BEGIN:VTIMEZONE
TZID:Europe/Berlin
BEGIN:DAYLIGHT
TZOFFSETFROM:+0100
TZOFFSETTO:+0200
TZNAME:CEST
DTSTART:20240331T010000
END:DAYLIGHT
BEGIN:STANDARD
TZOFFSETFROM:+0200
TZOFFSETTO:+0100
TZNAME:CET
DTSTART:20241027T010000
END:STANDARD
END:VTIMEZONE
BEGIN:VEVENT
DTSTART;TZID=Europe/Berlin:20241209T190000
DTEND;TZID=Europe/Berlin:20241209T203000
DTSTAMP:20260422T074636
CREATED:20241009T115515Z
LAST-MODIFIED:20241009T115658Z
UID:10000335-1733770800-1733776200@wsv-kathrein.at
SUMMARY:Skigymnastik Erwachsene 2024
DESCRIPTION:Skigymnastik für Erwachsene. \nOrt: Turnsaal St. Kathrein/Off.
URL:https://wsv-kathrein.at/event/skigymnastik-erwachsene-3/2024-12-09/
LOCATION:VS St. Kathrein/Offenegg\, Dorf 99\, St. Kathrein am Offenegg\, 8171\, Austria
END:VEVENT
END:VCALENDAR