BEGIN:VCALENDAR
VERSION:2.0
PRODID:-//WSV St.Kathrein/Offenegg Skiverein - ECPv6.0.12//NONSGML v1.0//EN
CALSCALE:GREGORIAN
METHOD:PUBLISH
X-WR-CALNAME:WSV St.Kathrein/Offenegg Skiverein
X-ORIGINAL-URL:https://wsv-kathrein.at
X-WR-CALDESC:Veranstaltungen für WSV St.Kathrein/Offenegg Skiverein
REFRESH-INTERVAL;VALUE=DURATION:PT1H
X-Robots-Tag:noindex
X-PUBLISHED-TTL:PT1H
BEGIN:VTIMEZONE
TZID:Europe/Berlin
BEGIN:DAYLIGHT
TZOFFSETFROM:+0100
TZOFFSETTO:+0200
TZNAME:CEST
DTSTART:20230326T010000
END:DAYLIGHT
BEGIN:STANDARD
TZOFFSETFROM:+0200
TZOFFSETTO:+0100
TZNAME:CET
DTSTART:20231029T010000
END:STANDARD
END:VTIMEZONE
BEGIN:VEVENT
DTSTART;TZID=Europe/Berlin:20231104T170000
DTEND;TZID=Europe/Berlin:20231104T183000
DTSTAMP:20260424T144735
CREATED:20230921T103025Z
LAST-MODIFIED:20230926T195039Z
UID:10000253-1699117200-1699122600@wsv-kathrein.at
SUMMARY:Skigymnastik Kinder
DESCRIPTION:Skigymnastik für alle ab 4 Jahren. Mit Spaß und Sport in die neue Skisaison. \nOrt: Turnsaal St. Kathrein/Off. \n1 Los für jede Teilnahme. Verlosung beim letzten Termin. \nNähere Infos bei Nicole Harrer \n \n 
URL:https://wsv-kathrein.at/event/skigymnastik-kinder-3/2023-11-04/
END:VEVENT
BEGIN:VEVENT
DTSTART;TZID=Europe/Berlin:20231106T190000
DTEND;TZID=Europe/Berlin:20231106T203000
DTSTAMP:20260424T144735
CREATED:20230921T103724Z
LAST-MODIFIED:20230921T103724Z
UID:10000258-1699297200-1699302600@wsv-kathrein.at
SUMMARY:Skigymnastik Erwachsene
DESCRIPTION:Skigymnastik für Erwachsene. \nOrt: Turnsaal St. Kathrein/Off. \nNähere Infos bei Philipp Kreimer
URL:https://wsv-kathrein.at/event/skigymnastik-erwachsene-2/2023-11-06/
END:VEVENT
BEGIN:VEVENT
DTSTART;TZID=Europe/Berlin:20231111T170000
DTEND;TZID=Europe/Berlin:20231111T183000
DTSTAMP:20260424T144735
CREATED:20230921T103025Z
LAST-MODIFIED:20230926T195039Z
UID:10000254-1699722000-1699727400@wsv-kathrein.at
SUMMARY:Skigymnastik Kinder
DESCRIPTION:Skigymnastik für alle ab 4 Jahren. Mit Spaß und Sport in die neue Skisaison. \nOrt: Turnsaal St. Kathrein/Off. \n1 Los für jede Teilnahme. Verlosung beim letzten Termin. \nNähere Infos bei Nicole Harrer \n \n 
URL:https://wsv-kathrein.at/event/skigymnastik-kinder-3/2023-11-11/
END:VEVENT
BEGIN:VEVENT
DTSTART;TZID=Europe/Berlin:20231113T190000
DTEND;TZID=Europe/Berlin:20231113T203000
DTSTAMP:20260424T144735
CREATED:20230921T103724Z
LAST-MODIFIED:20230921T103724Z
UID:10000259-1699902000-1699907400@wsv-kathrein.at
SUMMARY:Skigymnastik Erwachsene
DESCRIPTION:Skigymnastik für Erwachsene. \nOrt: Turnsaal St. Kathrein/Off. \nNähere Infos bei Philipp Kreimer
URL:https://wsv-kathrein.at/event/skigymnastik-erwachsene-2/2023-11-13/
END:VEVENT
BEGIN:VEVENT
DTSTART;TZID=Europe/Berlin:20231118T170000
DTEND;TZID=Europe/Berlin:20231118T183000
DTSTAMP:20260424T144735
CREATED:20230921T103025Z
LAST-MODIFIED:20230926T195039Z
UID:10000255-1700326800-1700332200@wsv-kathrein.at
SUMMARY:Skigymnastik Kinder
DESCRIPTION:Skigymnastik für alle ab 4 Jahren. Mit Spaß und Sport in die neue Skisaison. \nOrt: Turnsaal St. Kathrein/Off. \n1 Los für jede Teilnahme. Verlosung beim letzten Termin. \nNähere Infos bei Nicole Harrer \n \n 
URL:https://wsv-kathrein.at/event/skigymnastik-kinder-3/2023-11-18/
END:VEVENT
BEGIN:VEVENT
DTSTART;TZID=Europe/Berlin:20231120T190000
DTEND;TZID=Europe/Berlin:20231120T203000
DTSTAMP:20260424T144736
CREATED:20230921T103724Z
LAST-MODIFIED:20230921T103724Z
UID:10000260-1700506800-1700512200@wsv-kathrein.at
SUMMARY:Skigymnastik Erwachsene
DESCRIPTION:Skigymnastik für Erwachsene. \nOrt: Turnsaal St. Kathrein/Off. \nNähere Infos bei Philipp Kreimer
URL:https://wsv-kathrein.at/event/skigymnastik-erwachsene-2/2023-11-20/
END:VEVENT
BEGIN:VEVENT
DTSTART;TZID=Europe/Berlin:20231125T170000
DTEND;TZID=Europe/Berlin:20231125T183000
DTSTAMP:20260424T144736
CREATED:20230921T103025Z
LAST-MODIFIED:20230926T195039Z
UID:10000256-1700931600-1700937000@wsv-kathrein.at
SUMMARY:Skigymnastik Kinder
DESCRIPTION:Skigymnastik für alle ab 4 Jahren. Mit Spaß und Sport in die neue Skisaison. \nOrt: Turnsaal St. Kathrein/Off. \n1 Los für jede Teilnahme. Verlosung beim letzten Termin. \nNähere Infos bei Nicole Harrer \n \n 
URL:https://wsv-kathrein.at/event/skigymnastik-kinder-3/2023-11-25/
END:VEVENT
BEGIN:VEVENT
DTSTART;TZID=Europe/Berlin:20231127T190000
DTEND;TZID=Europe/Berlin:20231127T203000
DTSTAMP:20260424T144736
CREATED:20230921T103724Z
LAST-MODIFIED:20230921T103724Z
UID:10000261-1701111600-1701117000@wsv-kathrein.at
SUMMARY:Skigymnastik Erwachsene
DESCRIPTION:Skigymnastik für Erwachsene. \nOrt: Turnsaal St. Kathrein/Off. \nNähere Infos bei Philipp Kreimer
URL:https://wsv-kathrein.at/event/skigymnastik-erwachsene-2/2023-11-27/
END:VEVENT
END:VCALENDAR