BEGIN:VCALENDAR
VERSION:2.0
PRODID:-//WSV St.Kathrein/Offenegg Skiverein - ECPv6.0.12//NONSGML v1.0//EN
CALSCALE:GREGORIAN
METHOD:PUBLISH
X-ORIGINAL-URL:https://wsv-kathrein.at
X-WR-CALDESC:Veranstaltungen für WSV St.Kathrein/Offenegg Skiverein
REFRESH-INTERVAL;VALUE=DURATION:PT1H
X-Robots-Tag:noindex
X-PUBLISHED-TTL:PT1H
BEGIN:VTIMEZONE
TZID:Europe/Berlin
BEGIN:DAYLIGHT
TZOFFSETFROM:+0100
TZOFFSETTO:+0200
TZNAME:CEST
DTSTART:20230326T010000
END:DAYLIGHT
BEGIN:STANDARD
TZOFFSETFROM:+0200
TZOFFSETTO:+0100
TZNAME:CET
DTSTART:20231029T010000
END:STANDARD
END:VTIMEZONE
BEGIN:VEVENT
DTSTART;TZID=Europe/Berlin:20231201T170000
DTEND;TZID=Europe/Berlin:20231201T183000
DTSTAMP:20260424T132158
CREATED:20230921T103025Z
LAST-MODIFIED:20230926T195039Z
UID:10000257-1701450000-1701455400@wsv-kathrein.at
SUMMARY:Skigymnastik Kinder
DESCRIPTION:Skigymnastik für alle ab 4 Jahren. Mit Spaß und Sport in die neue Skisaison. \nOrt: Turnsaal St. Kathrein/Off. \n1 Los für jede Teilnahme. Verlosung beim letzten Termin. \nNähere Infos bei Nicole Harrer \n \n 
URL:https://wsv-kathrein.at/event/skigymnastik-kinder-3/2023-12-01/
END:VEVENT
BEGIN:VEVENT
DTSTART;TZID=Europe/Berlin:20231204T190000
DTEND;TZID=Europe/Berlin:20231204T203000
DTSTAMP:20260424T132158
CREATED:20230921T103724Z
LAST-MODIFIED:20230921T103724Z
UID:10000262-1701716400-1701721800@wsv-kathrein.at
SUMMARY:Skigymnastik Erwachsene
DESCRIPTION:Skigymnastik für Erwachsene. \nOrt: Turnsaal St. Kathrein/Off. \nNähere Infos bei Philipp Kreimer
URL:https://wsv-kathrein.at/event/skigymnastik-erwachsene-2/2023-12-04/
END:VEVENT
BEGIN:VEVENT
DTSTART;VALUE=DATE:20231209
DTEND;VALUE=DATE:20231211
DTSTAMP:20260424T132158
CREATED:20230921T104928Z
LAST-MODIFIED:20230921T104928Z
UID:10000267-1702080000-1702252799@wsv-kathrein.at
SUMMARY:Ski-Ausflug Schladming 2023
DESCRIPTION:Ski-Ausflug Rohrmoos-Schladming von 9. bis 10. Dezember 2023.
URL:https://wsv-kathrein.at/event/ski-ausflug-schladming-2023/
END:VEVENT
BEGIN:VEVENT
DTSTART;TZID=Europe/Berlin:20231211T190000
DTEND;TZID=Europe/Berlin:20231211T203000
DTSTAMP:20260424T132158
CREATED:20230921T103724Z
LAST-MODIFIED:20230921T103724Z
UID:10000263-1702321200-1702326600@wsv-kathrein.at
SUMMARY:Skigymnastik Erwachsene
DESCRIPTION:Skigymnastik für Erwachsene. \nOrt: Turnsaal St. Kathrein/Off. \nNähere Infos bei Philipp Kreimer
URL:https://wsv-kathrein.at/event/skigymnastik-erwachsene-2/2023-12-11/
END:VEVENT
BEGIN:VEVENT
DTSTART;VALUE=DATE:20231215
DTEND;VALUE=DATE:20231218
DTSTAMP:20260424T132158
CREATED:20230921T105146Z
LAST-MODIFIED:20230921T105146Z
UID:10000268-1702598400-1702857599@wsv-kathrein.at
SUMMARY:Kinder Trainingscamp 2023
DESCRIPTION:Kinder Trainingscamp von 15. bis 17. Dezember 2023 auf der Sommeralm beim Pirstingerlift.
URL:https://wsv-kathrein.at/event/kinder-trainingscamp-2023/
END:VEVENT
BEGIN:VEVENT
DTSTART;TZID=Europe/Berlin:20231218T190000
DTEND;TZID=Europe/Berlin:20231218T203000
DTSTAMP:20260424T132158
CREATED:20230921T103724Z
LAST-MODIFIED:20230921T103724Z
UID:10000264-1702926000-1702931400@wsv-kathrein.at
SUMMARY:Skigymnastik Erwachsene
DESCRIPTION:Skigymnastik für Erwachsene. \nOrt: Turnsaal St. Kathrein/Off. \nNähere Infos bei Philipp Kreimer
URL:https://wsv-kathrein.at/event/skigymnastik-erwachsene-2/2023-12-18/
END:VEVENT
END:VCALENDAR