BEGIN:VCALENDAR
VERSION:2.0
PRODID:-//WSV St.Kathrein/Offenegg Skiverein - ECPv6.0.12//NONSGML v1.0//EN
CALSCALE:GREGORIAN
METHOD:PUBLISH
X-ORIGINAL-URL:https://wsv-kathrein.at
X-WR-CALDESC:Veranstaltungen für WSV St.Kathrein/Offenegg Skiverein
REFRESH-INTERVAL;VALUE=DURATION:PT1H
X-Robots-Tag:noindex
X-PUBLISHED-TTL:PT1H
BEGIN:VTIMEZONE
TZID:Europe/Berlin
BEGIN:DAYLIGHT
TZOFFSETFROM:+0100
TZOFFSETTO:+0200
TZNAME:CEST
DTSTART:20240331T010000
END:DAYLIGHT
BEGIN:STANDARD
TZOFFSETFROM:+0200
TZOFFSETTO:+0100
TZNAME:CET
DTSTART:20241027T010000
END:STANDARD
END:VTIMEZONE
BEGIN:VEVENT
DTSTART;TZID=Europe/Berlin:20240921T130000
DTEND;TZID=Europe/Berlin:20240921T180000
DTSTAMP:20260422T103930
CREATED:20240915T220236Z
LAST-MODIFIED:20240915T220917Z
UID:10000310-1726923600-1726941600@wsv-kathrein.at
SUMMARY:38. Passailer Volkslauf 2024
DESCRIPTION:6. Lauf zum Weizer Bezirkslaufcup 2024 \nAlle Infos: https://weizerbezirkslaufcup.at/event/passailer-volkslauf/ \n 
URL:https://wsv-kathrein.at/event/passailer-volkslauf-2024/
LOCATION:Passail\, Passail\, 8162
END:VEVENT
END:VCALENDAR