BEGIN:VCALENDAR
VERSION:2.0
PRODID:-//WSV St.Kathrein/Offenegg Skiverein - ECPv6.0.12//NONSGML v1.0//EN
CALSCALE:GREGORIAN
METHOD:PUBLISH
X-ORIGINAL-URL:https://wsv-kathrein.at
X-WR-CALDESC:Veranstaltungen für WSV St.Kathrein/Offenegg Skiverein
REFRESH-INTERVAL;VALUE=DURATION:PT1H
X-Robots-Tag:noindex
X-PUBLISHED-TTL:PT1H
BEGIN:VTIMEZONE
TZID:Europe/Berlin
BEGIN:DAYLIGHT
TZOFFSETFROM:+0100
TZOFFSETTO:+0200
TZNAME:CEST
DTSTART:20240331T010000
END:DAYLIGHT
BEGIN:STANDARD
TZOFFSETFROM:+0200
TZOFFSETTO:+0100
TZNAME:CET
DTSTART:20241027T010000
END:STANDARD
END:VTIMEZONE
BEGIN:VEVENT
DTSTART;TZID=Europe/Berlin:20241012T170000
DTEND;TZID=Europe/Berlin:20241012T183000
DTSTAMP:20260422T090955
CREATED:20241009T114630Z
LAST-MODIFIED:20241009T115128Z
UID:10000322-1728752400-1728757800@wsv-kathrein.at
SUMMARY:Skigymnastik Kinder 2024
DESCRIPTION:Skigymnastik für alle ab 4 Jahren. Mit Spaß und Sport in die neue Skisaison. \nOrt: Turnsaal St. Kathrein/Off.
URL:https://wsv-kathrein.at/event/skigymnastik-kinder-4/2024-10-12/
LOCATION:VS St. Kathrein/Offenegg\, Dorf 99\, St. Kathrein am Offenegg\, 8171\, Austria
END:VEVENT
BEGIN:VEVENT
DTSTART;TZID=Europe/Berlin:20241019T090000
DTEND;TZID=Europe/Berlin:20241019T160000
DTSTAMP:20260422T090955
CREATED:20240915T220833Z
LAST-MODIFIED:20240915T222639Z
UID:10000311-1729328400-1729353600@wsv-kathrein.at
SUMMARY:11. Steirischer ApfelLand Lauf 2024
DESCRIPTION:7. und letzter Lauf zum Weizer Bezirkslaufcup 2024 \nOrt: Stubenbergsee \nAlle Infos: https://weizerbezirkslaufcup.at/event/steirischer-apfelland-lauf/ \n 
URL:https://wsv-kathrein.at/event/apfelland-lauf-2024/
LOCATION:Stubenbergsee\, Seestraße 99\, Stubenberg am See\, 8223\, Austria
END:VEVENT
BEGIN:VEVENT
DTSTART;TZID=Europe/Berlin:20241019T170000
DTEND;TZID=Europe/Berlin:20241019T183000
DTSTAMP:20260422T090955
CREATED:20241009T114630Z
LAST-MODIFIED:20241009T115128Z
UID:10000323-1729357200-1729362600@wsv-kathrein.at
SUMMARY:Skigymnastik Kinder 2024
DESCRIPTION:Skigymnastik für alle ab 4 Jahren. Mit Spaß und Sport in die neue Skisaison. \nOrt: Turnsaal St. Kathrein/Off.
URL:https://wsv-kathrein.at/event/skigymnastik-kinder-4/2024-10-19/
LOCATION:VS St. Kathrein/Offenegg\, Dorf 99\, St. Kathrein am Offenegg\, 8171\, Austria
END:VEVENT
BEGIN:VEVENT
DTSTART;TZID=Europe/Berlin:20241025T170000
DTEND;TZID=Europe/Berlin:20241025T183000
DTSTAMP:20260422T090955
CREATED:20241009T114630Z
LAST-MODIFIED:20241009T115128Z
UID:10000329-1729875600-1729881000@wsv-kathrein.at
SUMMARY:Skigymnastik Kinder 2024
DESCRIPTION:Skigymnastik für alle ab 4 Jahren. Mit Spaß und Sport in die neue Skisaison. \nOrt: Turnsaal St. Kathrein/Off.
URL:https://wsv-kathrein.at/event/skigymnastik-kinder-4/2024-10-25/
LOCATION:VS St. Kathrein/Offenegg\, Dorf 99\, St. Kathrein am Offenegg\, 8171\, Austria
END:VEVENT
END:VCALENDAR