BEGIN:VCALENDAR
VERSION:2.0
PRODID:-//WSV St.Kathrein/Offenegg Skiverein - ECPv6.0.12//NONSGML v1.0//EN
CALSCALE:GREGORIAN
METHOD:PUBLISH
X-ORIGINAL-URL:https://wsv-kathrein.at
X-WR-CALDESC:Veranstaltungen für WSV St.Kathrein/Offenegg Skiverein
REFRESH-INTERVAL;VALUE=DURATION:PT1H
X-Robots-Tag:noindex
X-PUBLISHED-TTL:PT1H
BEGIN:VTIMEZONE
TZID:Europe/Berlin
BEGIN:DAYLIGHT
TZOFFSETFROM:+0100
TZOFFSETTO:+0200
TZNAME:CEST
DTSTART:20240331T010000
END:DAYLIGHT
BEGIN:STANDARD
TZOFFSETFROM:+0200
TZOFFSETTO:+0100
TZNAME:CET
DTSTART:20241027T010000
END:STANDARD
END:VTIMEZONE
BEGIN:VEVENT
DTSTART;TZID=Europe/Berlin:20241202T190000
DTEND;TZID=Europe/Berlin:20241202T203000
DTSTAMP:20260422T063435
CREATED:20241009T115515Z
LAST-MODIFIED:20241009T115658Z
UID:10000334-1733166000-1733171400@wsv-kathrein.at
SUMMARY:Skigymnastik Erwachsene 2024
DESCRIPTION:Skigymnastik für Erwachsene. \nOrt: Turnsaal St. Kathrein/Off.
URL:https://wsv-kathrein.at/event/skigymnastik-erwachsene-3/2024-12-02/
LOCATION:VS St. Kathrein/Offenegg\, Dorf 99\, St. Kathrein am Offenegg\, 8171\, Austria
END:VEVENT
BEGIN:VEVENT
DTSTART;VALUE=DATE:20241207
DTEND;VALUE=DATE:20241209
DTSTAMP:20260422T063435
CREATED:20241009T113823Z
LAST-MODIFIED:20241009T113823Z
UID:10000314-1733529600-1733702399@wsv-kathrein.at
SUMMARY:Ski-Ausflug Schladming 2024
DESCRIPTION:Ski-Ausflug Rohrmoos-Schladming von Sa. 7. bis So. 8. Dezember 2024. \nAlle Infos in der Einladung !
URL:https://wsv-kathrein.at/event/ski-ausflug-schladming-2024/
END:VEVENT
BEGIN:VEVENT
DTSTART;TZID=Europe/Berlin:20241209T190000
DTEND;TZID=Europe/Berlin:20241209T203000
DTSTAMP:20260422T063435
CREATED:20241009T115515Z
LAST-MODIFIED:20241009T115658Z
UID:10000335-1733770800-1733776200@wsv-kathrein.at
SUMMARY:Skigymnastik Erwachsene 2024
DESCRIPTION:Skigymnastik für Erwachsene. \nOrt: Turnsaal St. Kathrein/Off.
URL:https://wsv-kathrein.at/event/skigymnastik-erwachsene-3/2024-12-09/
LOCATION:VS St. Kathrein/Offenegg\, Dorf 99\, St. Kathrein am Offenegg\, 8171\, Austria
END:VEVENT
BEGIN:VEVENT
DTSTART;TZID=Europe/Berlin:20241216T190000
DTEND;TZID=Europe/Berlin:20241216T203000
DTSTAMP:20260422T063435
CREATED:20241009T115515Z
LAST-MODIFIED:20241009T115658Z
UID:10000336-1734375600-1734381000@wsv-kathrein.at
SUMMARY:Skigymnastik Erwachsene 2024
DESCRIPTION:Skigymnastik für Erwachsene. \nOrt: Turnsaal St. Kathrein/Off.
URL:https://wsv-kathrein.at/event/skigymnastik-erwachsene-3/2024-12-16/
LOCATION:VS St. Kathrein/Offenegg\, Dorf 99\, St. Kathrein am Offenegg\, 8171\, Austria
END:VEVENT
BEGIN:VEVENT
DTSTART;VALUE=DATE:20241220
DTEND;VALUE=DATE:20241223
DTSTAMP:20260422T063436
CREATED:20241009T113359Z
LAST-MODIFIED:20241009T113359Z
UID:10000313-1734652800-1734911999@wsv-kathrein.at
SUMMARY:Kinder Trainingscamp 2024
DESCRIPTION:Kinder Trainingscamp von Fr. 20. bis So 22. Dezember 2024 auf der Sommeralm beim Pirstingerlift. \nAlle Infos in der Einladung !
URL:https://wsv-kathrein.at/event/kinder-trainingscamp-2024/
LOCATION:Pirstingerlift\, Hohenau 37\, Hohenau an der Raab\, 8172\, Austria
END:VEVENT
END:VCALENDAR